BEGIN:VCALENDAR
PRODID:-//Compnay Inc//Product Application//EN
VERSION:2.0
X-WR-CALNAME:Calendar
METHOD:PUBLISH
BEGIN:VEVENT
DTSTART:20260424T070000Z
DTEND:20260424T083000Z
DTSTAMP:20260423T104303Z
UID:a16e58b6-0fa2-4a5a-aa19-525d529895a1
CREATED:20260423T104303Z
X-ALT-DESC;FMTTYPE=text/html:Arbetar du inom tillverkningsindustrin och undrar hur AI kan utveckla din verksamhet? Nu erbjuder vi en workshop där du får omsätta dina idéer till konkreta möjligheter i den egna verksamheten.
DESCRIPTION:Arbetar du inom tillverkningsindustrin och undrar hur AI kan utveckla din verksamhet? Nu erbjuder vi en workshop där du får omsätta dina idéer till konkreta möjligheter i den egna verksamheten.
LAST-MODIFIED:20260423T104303Z
LOCATION:Online
SEQUENCE:0
STATUS:CONFIRMED
SUMMARY:Workshop: Industriell AI Acceleration
TRANSP:OPAQUE
END:VEVENT
BEGIN:VALARM
TRIGGER:-PT30M
REPEAT:2
DURATION:PT15M
ACTION:DISPLAY
DESCRIPTION:Workshop: Industriell AI Acceleration
END:VALARM
BEGIN:VEVENT
DTSTART:20260424T080000Z
DTEND:20260424T090000Z
DTSTAMP:20260423T104303Z
UID:0c745058-81c2-40b0-a704-0af8543d0386
CREATED:20260423T104303Z
X-ALT-DESC;FMTTYPE=text/html:We are offering a series of seminars focusing on the transformation of hospital-at-home care for older adults, with comparative insights across countries. The seminar is conducted in Swedish.
DESCRIPTION:We are offering a series of seminars focusing on the transformation of hospital-at-home care for older adults, with comparative insights across countries. The seminar is conducted in Swedish.
LAST-MODIFIED:20260423T104303Z
LOCATION:Online
SEQUENCE:0
STATUS:CONFIRMED
SUMMARY:Seminar 2 Transforming hospital at Home Care for older adults
TRANSP:OPAQUE
END:VEVENT
BEGIN:VALARM
TRIGGER:-PT30M
REPEAT:2
DURATION:PT15M
ACTION:DISPLAY
DESCRIPTION:Seminar 2 Transforming hospital at Home Care for older adults
END:VALARM
BEGIN:VEVENT
DTSTART:20260424T111500Z
DTEND:20260424T130000Z
DTSTAMP:20260423T104303Z
UID:8d048d3b-111b-4e13-a7d0-ca61a75a0b7d
CREATED:20260423T104303Z
X-ALT-DESC;FMTTYPE=text/html:Welcome to attend on April 24 when Shifte Mosalli defends her doctoral thesis "The Power Dimensions of Mobility - Class and Race in the Geography of Inequality" in the subject of sociology.
DESCRIPTION:Welcome to attend on April 24 when Shifte Mosalli defends her doctoral thesis "The Power Dimensions of Mobility - Class and Race in the Geography of Inequality" in the subject of sociology.
LAST-MODIFIED:20260423T104303Z
LOCATION:Sundsvall
SEQUENCE:0
STATUS:CONFIRMED
SUMMARY:Dissertation in Sociology with Shifte Mosalli
TRANSP:OPAQUE
END:VEVENT
BEGIN:VALARM
TRIGGER:-PT30M
REPEAT:2
DURATION:PT15M
ACTION:DISPLAY
DESCRIPTION:Dissertation in Sociology with Shifte Mosalli
END:VALARM
BEGIN:VEVENT
DTSTART:20260424T121500Z
DTEND:20260424T150000Z
DTSTAMP:20260423T104303Z
UID:79b515f5-db9d-47e4-aec4-7153050490dd
CREATED:20260423T104303Z
X-ALT-DESC;FMTTYPE=text/html:Welcome to the Doctoral Defense in Mathematics with Suprokash Hazra. He will present his thesis: "Envelope of Tube Manifolds and Domains in Toric Varities".
DESCRIPTION:Welcome to the Doctoral Defense in Mathematics with Suprokash Hazra. He will present his thesis: "Envelope of Tube Manifolds and Domains in Toric Varities".
LAST-MODIFIED:20260423T104303Z
LOCATION:Sundsvall
SEQUENCE:0
STATUS:CONFIRMED
SUMMARY:Doctoral Defense in Mathematics with Suprokash Hazra
TRANSP:OPAQUE
END:VEVENT
BEGIN:VALARM
TRIGGER:-PT30M
REPEAT:2
DURATION:PT15M
ACTION:DISPLAY
DESCRIPTION:Doctoral Defense in Mathematics with Suprokash Hazra
END:VALARM
BEGIN:VEVENT
DTSTART:20260511T100000Z
DTEND:20260511T104500Z
DTSTAMP:20260423T104303Z
UID:fe02a704-9617-4a1e-9d3e-682accaf7ef1
CREATED:20260423T104303Z
X-ALT-DESC;FMTTYPE=text/html:Jesper Bergman is a PhD student at Stockholm University and is involved in research projects in information security. The department offers courses in computer and systems science as well as information security.
DESCRIPTION:Jesper Bergman is a PhD student at Stockholm University and is involved in research projects in information security. The department offers courses in computer and systems science as well as information security.
LAST-MODIFIED:20260423T104303Z
LOCATION:Online
SEQUENCE:0
STATUS:CONFIRMED
SUMMARY:Seminar with Jesper Bergman
TRANSP:OPAQUE
END:VEVENT
BEGIN:VALARM
TRIGGER:-PT30M
REPEAT:2
DURATION:PT15M
ACTION:DISPLAY
DESCRIPTION:Seminar with Jesper Bergman
END:VALARM
BEGIN:VEVENT
DTSTART:20260521T070000Z
DTEND:20260521T140000Z
DTSTAMP:20260423T104303Z
UID:5798d448-2be0-42f9-80cb-b6b07a9b8545
CREATED:20260423T104303Z
X-ALT-DESC;FMTTYPE=text/html:Does your company have a challenge that requires new perspectives? At Business Innovation Day, your company can discuss your specific challenges, bounce ideas and get advice from hand-picked experts for your particular case.
DESCRIPTION:Does your company have a challenge that requires new perspectives? At Business Innovation Day, your company can discuss your specific challenges, bounce ideas and get advice from hand-picked experts for your particular case.
LAST-MODIFIED:20260423T104303Z
LOCATION:Online
SEQUENCE:0
STATUS:CONFIRMED
SUMMARY:Business Innovation Day
TRANSP:OPAQUE
END:VEVENT
BEGIN:VALARM
TRIGGER:-PT30M
REPEAT:2
DURATION:PT15M
ACTION:DISPLAY
DESCRIPTION:Business Innovation Day
END:VALARM
BEGIN:VEVENT
DTSTART:20260522T080000Z
DTEND:20260522T090000Z
DTSTAMP:20260423T104303Z
UID:9c049fe2-4281-4bd6-a0fe-01a88e95bbda
CREATED:20260423T104303Z
X-ALT-DESC;FMTTYPE=text/html:We will give seminars in the topic of home care for older adults, a comparative study with country insights. The seminars will be able to watch online. This seminar is conducted in Swedish.
DESCRIPTION:We will give seminars in the topic of home care for older adults, a comparative study with country insights. The seminars will be able to watch online. This seminar is conducted in Swedish.
LAST-MODIFIED:20260423T104303Z
LOCATION:Online
SEQUENCE:0
STATUS:CONFIRMED
SUMMARY:Seminar 3 Transforming Hospital at Home Care for older adults
TRANSP:OPAQUE
END:VEVENT
BEGIN:VALARM
TRIGGER:-PT30M
REPEAT:2
DURATION:PT15M
ACTION:DISPLAY
DESCRIPTION:Seminar 3 Transforming Hospital at Home Care for older adults
END:VALARM
BEGIN:VEVENT
DTSTART:20260526T070000Z
DTEND:20260526T080000Z
DTSTAMP:20260423T104303Z
UID:bfbe48b7-7da9-48a4-a056-c444d6d21733
CREATED:20260423T104303Z
X-ALT-DESC;FMTTYPE=text/html:Who Owns AI Risk in Your Business? Many small and medium-sized companies use AI and digital systems in their daily operations. But who is responsible when data is wrong, systems fail, or AI-driven decisions create risk?
DESCRIPTION:Who Owns AI Risk in Your Business? Many small and medium-sized companies use AI and digital systems in their daily operations. But who is responsible when data is wrong, systems fail, or AI-driven decisions create risk?
LAST-MODIFIED:20260423T104303Z
LOCATION:Online
SEQUENCE:0
STATUS:CONFIRMED
SUMMARY:Webinar: Who Owns AI Risk in Your Business?
TRANSP:OPAQUE
END:VEVENT
BEGIN:VALARM
TRIGGER:-PT30M
REPEAT:2
DURATION:PT15M
ACTION:DISPLAY
DESCRIPTION:Webinar: Who Owns AI Risk in Your Business?
END:VALARM
BEGIN:VEVENT
DTSTART:20261111T110000Z
DTEND:20261111T114500Z
DTSTAMP:20260423T104303Z
UID:40dc2aa5-2c09-449b-8e6d-1aa0e38b0805
CREATED:20260423T104303Z
X-ALT-DESC;FMTTYPE=text/html:Niklas Humble is a PhD in Computer and Systems Science and affiliated with RCR and the KKI department at Mid Sweden University. His lunch seminar is titled "Prompt Injections in Higher Education – And the Ethical Implications of AI-mediated Academic Work"
DESCRIPTION:Niklas Humble is a PhD in Computer and Systems Science and affiliated with RCR and the KKI department at Mid Sweden University. His lunch seminar is titled "Prompt Injections in Higher Education – And the Ethical Implications of AI-mediated Academic Work"
LAST-MODIFIED:20260423T104303Z
LOCATION:Online
SEQUENCE:0
STATUS:CONFIRMED
SUMMARY:Lunch seminar with Niklas Humble
TRANSP:OPAQUE
END:VEVENT
BEGIN:VALARM
TRIGGER:-PT30M
REPEAT:2
DURATION:PT15M
ACTION:DISPLAY
DESCRIPTION:Lunch seminar with Niklas Humble
END:VALARM
BEGIN:VEVENT
DTSTART:20270304T100000Z
DTEND:20270304T130000Z
DTSTAMP:20260423T104303Z
UID:11c80fdf-c181-417f-8041-ffc18c9c1e5b
CREATED:20260423T104303Z
X-ALT-DESC;FMTTYPE=text/html:Mötesplats Campus is a career fair arranged at Campus Östersund. The fair is a collaboration between Mid Sweden University, Östersund Municipality and the Student Union in Östersund.
DESCRIPTION:Mötesplats Campus is a career fair arranged at Campus Östersund. The fair is a collaboration between Mid Sweden University, Östersund Municipality and the Student Union in Östersund.
LAST-MODIFIED:20260423T104303Z
LOCATION:Östersund
SEQUENCE:0
STATUS:CONFIRMED
SUMMARY:Mötesplats Campus
TRANSP:OPAQUE
END:VEVENT
BEGIN:VALARM
TRIGGER:-PT30M
REPEAT:2
DURATION:PT15M
ACTION:DISPLAY
DESCRIPTION:Mötesplats Campus
END:VALARM
END:VCALENDAR
