BEGIN:VCALENDAR
PRODID:-//Compnay Inc//Product Application//EN
VERSION:2.0
X-WR-CALNAME:Mittuniversitetets kalendarium
METHOD:PUBLISH
BEGIN:VEVENT
DTSTART:20260424T070000Z
DTEND:20260424T083000Z
DTSTAMP:20260423T164332Z
UID:3e962bd5-4542-4af7-8eb1-ea0d5e455ec9
CREATED:20260423T164332Z
X-ALT-DESC;FMTTYPE=text/html:Arbetar du inom tillverkningsindustrin och undrar hur AI kan utveckla din verksamhet? Nu erbjuder vi en workshop där du får omsätta dina idéer till konkreta möjligheter i den egna verksamheten.
DESCRIPTION:Arbetar du inom tillverkningsindustrin och undrar hur AI kan utveckla din verksamhet? Nu erbjuder vi en workshop där du får omsätta dina idéer till konkreta möjligheter i den egna verksamheten.
LAST-MODIFIED:20260423T164332Z
LOCATION:Online
SEQUENCE:0
STATUS:CONFIRMED
SUMMARY:Workshop: Industriell AI Acceleration
TRANSP:OPAQUE
END:VEVENT
BEGIN:VALARM
TRIGGER:-PT30M
REPEAT:2
DURATION:PT15M
ACTION:DISPLAY
DESCRIPTION:Workshop: Industriell AI Acceleration
END:VALARM
BEGIN:VEVENT
DTSTART:20260424T080000Z
DTEND:20260424T090000Z
DTSTAMP:20260423T164332Z
UID:45b06b0b-309c-4d04-9b54-fa8970589bba
CREATED:20260423T164332Z
X-ALT-DESC;FMTTYPE=text/html:Vi ger en serie seminarier som handlar om omställning av sjukvård i hemmet för äldre med jämförande insikter mellan länder. Seminariet hålls på svenska.
DESCRIPTION:Vi ger en serie seminarier som handlar om omställning av sjukvård i hemmet för äldre med jämförande insikter mellan länder. Seminariet hålls på svenska.
LAST-MODIFIED:20260423T164332Z
LOCATION:Online
SEQUENCE:0
STATUS:CONFIRMED
SUMMARY:Seminarium 2 Omställning av sjukvård i hemmet för äldre
TRANSP:OPAQUE
END:VEVENT
BEGIN:VALARM
TRIGGER:-PT30M
REPEAT:2
DURATION:PT15M
ACTION:DISPLAY
DESCRIPTION:Seminarium 2 Omställning av sjukvård i hemmet för äldre
END:VALARM
BEGIN:VEVENT
DTSTART:20260424T110000Z
DTEND:20260424T113000Z
DTSTAMP:20260423T164332Z
UID:1863bdb4-6f7f-45e8-87e6-4714bbca8fe2
CREATED:20260423T164332Z
X-ALT-DESC;FMTTYPE=text/html:Välkommen till campusbiblioteket i Östersund fredag 24 april kl. 13.00 för ett föredrag om medeltida bokband.
DESCRIPTION:Välkommen till campusbiblioteket i Östersund fredag 24 april kl. 13.00 för ett föredrag om medeltida bokband.
LAST-MODIFIED:20260423T164332Z
LOCATION:Östersund
SEQUENCE:0
STATUS:CONFIRMED
SUMMARY:Föredrag: Medeltida bokband på campusbiblioteket i Östersund
TRANSP:OPAQUE
END:VEVENT
BEGIN:VALARM
TRIGGER:-PT30M
REPEAT:2
DURATION:PT15M
ACTION:DISPLAY
DESCRIPTION:Föredrag: Medeltida bokband på campusbiblioteket i Östersund
END:VALARM
BEGIN:VEVENT
DTSTART:20260424T111500Z
DTEND:20260424T130000Z
DTSTAMP:20260423T164332Z
UID:e4ddfdc4-b5b4-49a8-b245-c87326541a51
CREATED:20260423T164332Z
X-ALT-DESC;FMTTYPE=text/html:Välkommen att närvara 24 april när Shifte Mosalli försvarar sin doktorsavhandling ”Mobilitetens maktdimensioner - Klass och ras i ojämlikhetens geografi” i ämnet sociologi.
DESCRIPTION:Välkommen att närvara 24 april när Shifte Mosalli försvarar sin doktorsavhandling ”Mobilitetens maktdimensioner - Klass och ras i ojämlikhetens geografi” i ämnet sociologi.
LAST-MODIFIED:20260423T164332Z
LOCATION:Sundsvall
SEQUENCE:0
STATUS:CONFIRMED
SUMMARY:Disputation i sociologi med Shifte Mosalli
TRANSP:OPAQUE
END:VEVENT
BEGIN:VALARM
TRIGGER:-PT30M
REPEAT:2
DURATION:PT15M
ACTION:DISPLAY
DESCRIPTION:Disputation i sociologi med Shifte Mosalli
END:VALARM
BEGIN:VEVENT
DTSTART:20260424T121500Z
DTEND:20260424T150000Z
DTSTAMP:20260423T164332Z
UID:7f1ed3c3-7579-4911-b365-6652b4db3b20
CREATED:20260423T164332Z
X-ALT-DESC;FMTTYPE=text/html:Välkommen till disputation i matematik med Suprokash Hazra. Han kommer att presentera sin avhandling: "Envelope of Tube Manifolds and Domains in Toric Variities".
DESCRIPTION:Välkommen till disputation i matematik med Suprokash Hazra. Han kommer att presentera sin avhandling: "Envelope of Tube Manifolds and Domains in Toric Variities".
LAST-MODIFIED:20260423T164332Z
LOCATION:Sundsvall
SEQUENCE:0
STATUS:CONFIRMED
SUMMARY:Disputation i matematik med Suprokash Hazra
TRANSP:OPAQUE
END:VEVENT
BEGIN:VALARM
TRIGGER:-PT30M
REPEAT:2
DURATION:PT15M
ACTION:DISPLAY
DESCRIPTION:Disputation i matematik med Suprokash Hazra
END:VALARM
BEGIN:VEVENT
DTSTART:20260505T070000Z
DTEND:20260505T091500Z
DTSTAMP:20260423T164332Z
UID:57ed4d40-8600-41ff-b454-a6508fead5fb
CREATED:20260423T164332Z
X-ALT-DESC;FMTTYPE=text/html:Varmt välkommen till Mittlyftet – en inspirerande konferens där kommunmedarbetare och forskare presenterar resultat från gemensamma forskningsprojekt. Lyssna till och diskutera möjliga lösningar på olika utmaningar!
DESCRIPTION:Varmt välkommen till Mittlyftet – en inspirerande konferens där kommunmedarbetare och forskare presenterar resultat från gemensamma forskningsprojekt. Lyssna till och diskutera möjliga lösningar på olika utmaningar!
LAST-MODIFIED:20260423T164332Z
LOCATION:Online
SEQUENCE:0
STATUS:CONFIRMED
SUMMARY:Mittlyftet 5 maj
TRANSP:OPAQUE
END:VEVENT
BEGIN:VALARM
TRIGGER:-PT30M
REPEAT:2
DURATION:PT15M
ACTION:DISPLAY
DESCRIPTION:Mittlyftet 5 maj
END:VALARM
BEGIN:VEVENT
DTSTART:20260507T070000Z
DTEND:20260507T080000Z
DTSTAMP:20260423T164332Z
UID:d2c06616-8e77-4323-913e-a74600af8ed1
CREATED:20260423T164332Z
X-ALT-DESC;FMTTYPE=text/html:Välkommen till seminarium med Jack Shepherd. Vi arrangerar digitala seminarier, webinarier, som är öppna för alla för att sprida kunskap om vår forskning och utbildning inom området hållbarhet.
DESCRIPTION:Välkommen till seminarium med Jack Shepherd. Vi arrangerar digitala seminarier, webinarier, som är öppna för alla för att sprida kunskap om vår forskning och utbildning inom området hållbarhet.
LAST-MODIFIED:20260423T164332Z
LOCATION:Online
SEQUENCE:0
STATUS:CONFIRMED
SUMMARY:Seminarium om hållbarhet
TRANSP:OPAQUE
END:VEVENT
BEGIN:VALARM
TRIGGER:-PT30M
REPEAT:2
DURATION:PT15M
ACTION:DISPLAY
DESCRIPTION:Seminarium om hållbarhet
END:VALARM
BEGIN:VEVENT
DTSTART:20260511T100000Z
DTEND:20260511T104500Z
DTSTAMP:20260423T164332Z
UID:9e177c72-0614-4ffb-bb53-a8deefb1edff
CREATED:20260423T164332Z
X-ALT-DESC;FMTTYPE=text/html:Jesper Bergman är doktorand vid Stockholms Universitet och är involverad i forskningsprojekt inom informationssäkerhet. Institutionen erbjuder utbildningar inom data- och systemvetenskap samt informationssäkerhet.
DESCRIPTION:Jesper Bergman är doktorand vid Stockholms Universitet och är involverad i forskningsprojekt inom informationssäkerhet. Institutionen erbjuder utbildningar inom data- och systemvetenskap samt informationssäkerhet.
LAST-MODIFIED:20260423T164332Z
LOCATION:Online
SEQUENCE:0
STATUS:CONFIRMED
SUMMARY:Lunchseminarium med Jesper Bergman
TRANSP:OPAQUE
END:VEVENT
BEGIN:VALARM
TRIGGER:-PT30M
REPEAT:2
DURATION:PT15M
ACTION:DISPLAY
DESCRIPTION:Lunchseminarium med Jesper Bergman
END:VALARM
BEGIN:VEVENT
DTSTART:20260521T070000Z
DTEND:20260521T140000Z
DTSTAMP:20260423T164332Z
UID:9d909817-5f85-495c-953b-28c06309165b
CREATED:20260423T164332Z
X-ALT-DESC;FMTTYPE=text/html:Har ditt företag en utmaning som kräver nya perspektiv? På Business Innovation Day kan ditt företag diskutera era specifika utmaningar, bolla idéer och få rådgivning av handplockade experter för just ert case.
DESCRIPTION:Har ditt företag en utmaning som kräver nya perspektiv? På Business Innovation Day kan ditt företag diskutera era specifika utmaningar, bolla idéer och få rådgivning av handplockade experter för just ert case.
LAST-MODIFIED:20260423T164332Z
LOCATION:Online
SEQUENCE:0
STATUS:CONFIRMED
SUMMARY:Business Innovation Day
TRANSP:OPAQUE
END:VEVENT
BEGIN:VALARM
TRIGGER:-PT30M
REPEAT:2
DURATION:PT15M
ACTION:DISPLAY
DESCRIPTION:Business Innovation Day
END:VALARM
BEGIN:VEVENT
DTSTART:20260522T080000Z
DTEND:20260522T090000Z
DTSTAMP:20260423T164332Z
UID:2fd2c481-e96e-4994-b719-973a2ec65859
CREATED:20260423T164332Z
X-ALT-DESC;FMTTYPE=text/html:Vi ger en serie seminarier som handlar om omställning av sjukvård i hemmet för äldre med jämförande insikter mellan länder. Seminariet hålls på svenska.
DESCRIPTION:Vi ger en serie seminarier som handlar om omställning av sjukvård i hemmet för äldre med jämförande insikter mellan länder. Seminariet hålls på svenska.
LAST-MODIFIED:20260423T164332Z
LOCATION:Online
SEQUENCE:0
STATUS:CONFIRMED
SUMMARY:Seminarium 3 Omställning av sjukvård i hemmet för äldre
TRANSP:OPAQUE
END:VEVENT
BEGIN:VALARM
TRIGGER:-PT30M
REPEAT:2
DURATION:PT15M
ACTION:DISPLAY
DESCRIPTION:Seminarium 3 Omställning av sjukvård i hemmet för äldre
END:VALARM
BEGIN:VEVENT
DTSTART:20260526T070000Z
DTEND:20260526T080000Z
DTSTAMP:20260423T164332Z
UID:574cb79f-21b7-4a60-a7ec-2230025c511f
CREATED:20260423T164332Z
X-ALT-DESC;FMTTYPE=text/html:Vem äger AI-risken i ditt företag? Många små och medelstora företag använder AI och digitala system i sin dagliga verksamhet. Men vem är ansvarig när data är fel, system fallerar eller AI-drivna beslut skapar risk?
DESCRIPTION:Vem äger AI-risken i ditt företag? Många små och medelstora företag använder AI och digitala system i sin dagliga verksamhet. Men vem är ansvarig när data är fel, system fallerar eller AI-drivna beslut skapar risk?
LAST-MODIFIED:20260423T164332Z
LOCATION:Online
SEQUENCE:0
STATUS:CONFIRMED
SUMMARY:Webbseminarium: Vem äger AI-risk i ditt företag?
TRANSP:OPAQUE
END:VEVENT
BEGIN:VALARM
TRIGGER:-PT30M
REPEAT:2
DURATION:PT15M
ACTION:DISPLAY
DESCRIPTION:Webbseminarium: Vem äger AI-risk i ditt företag?
END:VALARM
BEGIN:VEVENT
DTSTART:20260528T080000Z
DTEND:20260528T180000Z
DTSTAMP:20260423T164332Z
UID:5a4b7303-29d7-4134-924b-d4e76b445eef
CREATED:20260423T164332Z
X-ALT-DESC;FMTTYPE=text/html:Mid Sweden University’s third annual “Designdagen” or Day of Design is Thursday 28th of May 2026.
DESCRIPTION:Mid Sweden University’s third annual “Designdagen” or Day of Design is Thursday 28th of May 2026.
LAST-MODIFIED:20260423T164332Z
LOCATION:Sundsvall
SEQUENCE:0
STATUS:CONFIRMED
SUMMARY:Välkomna till Designdagen 2026 Welcome to Design Day 2026
TRANSP:OPAQUE
END:VEVENT
BEGIN:VALARM
TRIGGER:-PT30M
REPEAT:2
DURATION:PT15M
ACTION:DISPLAY
DESCRIPTION:Välkomna till Designdagen 2026 Welcome to Design Day 2026
END:VALARM
BEGIN:VEVENT
DTSTART:20260528T100000Z
DTEND:20260528T110000Z
DTSTAMP:20260423T164332Z
UID:20551cf2-c8a4-43c3-8259-1b5f34385924
CREATED:20260423T164332Z
X-ALT-DESC;FMTTYPE=text/html:Välkommen till en Lärandelunch där vi möter Nicklas Skår - författaren bakom boken "Vad skulle Axel Oxenstierna ha gjort i dag? Myndighetsstyrning i skuggan av en ny världsordning".
DESCRIPTION:Välkommen till en Lärandelunch där vi möter Nicklas Skår - författaren bakom boken "Vad skulle Axel Oxenstierna ha gjort i dag? Myndighetsstyrning i skuggan av en ny världsordning".
LAST-MODIFIED:20260423T164332Z
LOCATION:Online
SEQUENCE:0
STATUS:CONFIRMED
SUMMARY:Lärandelunch: Vad skulle Axel Oxenstierna ha gjort idag?
TRANSP:OPAQUE
END:VEVENT
BEGIN:VALARM
TRIGGER:-PT30M
REPEAT:2
DURATION:PT15M
ACTION:DISPLAY
DESCRIPTION:Lärandelunch: Vad skulle Axel Oxenstierna ha gjort idag?
END:VALARM
BEGIN:VEVENT
DTSTART:20261001T070000Z
DTEND:20261001T130000Z
DTSTAMP:20260423T164332Z
UID:333554c0-f2f0-4feb-9c58-d8c06254dd9d
CREATED:20260423T164332Z
X-ALT-DESC;FMTTYPE=text/html:Den 1 oktober håller 2026 års hedersdoktorer och våra nya professorer sina installationsföreläsningar på campus Sundsvall. Installationsföreläsningarna är öppna för allmänheten och sänds också live för dig som inte har möjlighet att delta på plats.
DESCRIPTION:Den 1 oktober håller 2026 års hedersdoktorer och våra nya professorer sina installationsföreläsningar på campus Sundsvall. Installationsföreläsningarna är öppna för allmänheten och sänds också live för dig som inte har möjlighet att delta på plats.
LAST-MODIFIED:20260423T164332Z
LOCATION:Sundsvall
SEQUENCE:0
STATUS:CONFIRMED
SUMMARY:Akademisk högtid: Installationsföreläsningar
TRANSP:OPAQUE
END:VEVENT
BEGIN:VALARM
TRIGGER:-PT30M
REPEAT:2
DURATION:PT15M
ACTION:DISPLAY
DESCRIPTION:Akademisk högtid: Installationsföreläsningar
END:VALARM
BEGIN:VEVENT
DTSTART:20261002T080000Z
DTEND:20261002T100000Z
DTSTAMP:20260423T164332Z
UID:acd3d991-2882-4a8a-b92c-4514e643b473
CREATED:20260423T164332Z
X-ALT-DESC;FMTTYPE=text/html:Den 2 oktober uppmärksammas våra nya meriterade och excellenta lärare samt våra pedagogiska pristagare under denna programpunkt. Kom och ta del av intressanta föreläsningar och panelsamtal.
DESCRIPTION:Den 2 oktober uppmärksammas våra nya meriterade och excellenta lärare samt våra pedagogiska pristagare under denna programpunkt. Kom och ta del av intressanta föreläsningar och panelsamtal.
LAST-MODIFIED:20260423T164332Z
LOCATION:Sundsvall
SEQUENCE:0
STATUS:CONFIRMED
SUMMARY:Akademisk högtid: Populärvetenskapliga föreläsningar och samtal
TRANSP:OPAQUE
END:VEVENT
BEGIN:VALARM
TRIGGER:-PT30M
REPEAT:2
DURATION:PT15M
ACTION:DISPLAY
DESCRIPTION:Akademisk högtid: Populärvetenskapliga föreläsningar och samtal
END:VALARM
BEGIN:VEVENT
DTSTART:20261002T140000Z
DTEND:20261002T160000Z
DTSTAMP:20260423T164332Z
UID:dbbbe42e-9e07-4994-b10f-cd07f3ae6ca2
CREATED:20260423T164332Z
X-ALT-DESC;FMTTYPE=text/html:Den 2 oktober håller vi vår akademiska högtidsceremoni. Vid ceremonin promoverar vi våra nya hedersdoktorer och doktorer, installerar nya professor och delar ut vetenskapliga priser. Ceremonin är öppen för allmänheten och livesänds för dig som inte har möjlighet att delta på plats.
DESCRIPTION:Den 2 oktober håller vi vår akademiska högtidsceremoni. Vid ceremonin promoverar vi våra nya hedersdoktorer och doktorer, installerar nya professor och delar ut vetenskapliga priser. Ceremonin är öppen för allmänheten och livesänds för dig som inte har möjlighet att delta på plats.
LAST-MODIFIED:20260423T164332Z
LOCATION:Sundsvall
SEQUENCE:0
STATUS:CONFIRMED
SUMMARY:Akademisk högtid
TRANSP:OPAQUE
END:VEVENT
BEGIN:VALARM
TRIGGER:-PT30M
REPEAT:2
DURATION:PT15M
ACTION:DISPLAY
DESCRIPTION:Akademisk högtid
END:VALARM
BEGIN:VEVENT
DTSTART:20261111T110000Z
DTEND:20261111T114500Z
DTSTAMP:20260423T164332Z
UID:07036a2b-1a5b-4ddf-9657-75e1053f00f5
CREATED:20260423T164332Z
X-ALT-DESC;FMTTYPE=text/html:Niklas Humble är doktor i data- och systemvetenskap och knuten till RCR och avdelningen KKI vid Mittuniversitetet. Han lunchseminarium går under titeln  “Prompt Injections in Higher Education – And the Ethical Implications of AI-mediated Academic Work ”
DESCRIPTION:Niklas Humble är doktor i data- och systemvetenskap och knuten till RCR och avdelningen KKI vid Mittuniversitetet. Han lunchseminarium går under titeln  “Prompt Injections in Higher Education – And the Ethical Implications of AI-mediated Academic Work ”
LAST-MODIFIED:20260423T164332Z
LOCATION:Online
SEQUENCE:0
STATUS:CONFIRMED
SUMMARY:Lunchseminarium med Niklas Humble
TRANSP:OPAQUE
END:VEVENT
BEGIN:VALARM
TRIGGER:-PT30M
REPEAT:2
DURATION:PT15M
ACTION:DISPLAY
DESCRIPTION:Lunchseminarium med Niklas Humble
END:VALARM
BEGIN:VEVENT
DTSTART:20270127T083000Z
DTEND:20270127T133000Z
DTSTAMP:20260423T164332Z
UID:3cd76880-70c7-459c-a8a1-c4bb649af92c
CREATED:20260423T164332Z
X-ALT-DESC;FMTTYPE=text/html:Den 27 januari öppnar vi dörrarna till Campus Sundsvall och bjuder in till en dag fylld av inspiration, nyfikenhet och nya möjligheter. Vi visar upp våra utbildningsprogram och ger er en inblick i den forskning som pågår vid Mittuniversitetet.
DESCRIPTION:Den 27 januari öppnar vi dörrarna till Campus Sundsvall och bjuder in till en dag fylld av inspiration, nyfikenhet och nya möjligheter. Vi visar upp våra utbildningsprogram och ger er en inblick i den forskning som pågår vid Mittuniversitetet.
LAST-MODIFIED:20260423T164332Z
LOCATION:Sundsvall
SEQUENCE:0
STATUS:CONFIRMED
SUMMARY:Öppet hus Sundsvall
TRANSP:OPAQUE
END:VEVENT
BEGIN:VALARM
TRIGGER:-PT30M
REPEAT:2
DURATION:PT15M
ACTION:DISPLAY
DESCRIPTION:Öppet hus Sundsvall
END:VALARM
BEGIN:VEVENT
DTSTART:20270211T083000Z
DTEND:20270211T133000Z
DTSTAMP:20260423T164332Z
UID:4648bd33-0a94-4406-ac85-c3661bbdc36c
CREATED:20260423T164332Z
X-ALT-DESC;FMTTYPE=text/html:Den 11 februari bjuder vi in till Öppet hus på Campus Östersund. Det här är en dag då Mittuniversitetet öppnar dörrarna och bjuder in till inspiration, nyfikenhet och nya möjligheter. Vi presenterar våra utbildningsprogram och ger en inblick i den spännande forskning som pågår hos oss.
DESCRIPTION:Den 11 februari bjuder vi in till Öppet hus på Campus Östersund. Det här är en dag då Mittuniversitetet öppnar dörrarna och bjuder in till inspiration, nyfikenhet och nya möjligheter. Vi presenterar våra utbildningsprogram och ger en inblick i den spännande forskning som pågår hos oss.
LAST-MODIFIED:20260423T164332Z
LOCATION:Östersund
SEQUENCE:0
STATUS:CONFIRMED
SUMMARY:Öppet hus Östersund
TRANSP:OPAQUE
END:VEVENT
BEGIN:VALARM
TRIGGER:-PT30M
REPEAT:2
DURATION:PT15M
ACTION:DISPLAY
DESCRIPTION:Öppet hus Östersund
END:VALARM
BEGIN:VEVENT
DTSTART:20270304T100000Z
DTEND:20270304T130000Z
DTSTAMP:20260423T164332Z
UID:f41bdf41-56fb-43dd-8b9d-094ef1b026c4
CREATED:20260423T164332Z
X-ALT-DESC;FMTTYPE=text/html:Mötesplats Campus är en arbetsmarknadsmässa som arrangeras på campus Östersund. Mässan är ett samarbete mellan Mittuniversitetet, Östersunds kommun och Studentkåren i Östersund.
DESCRIPTION:Mötesplats Campus är en arbetsmarknadsmässa som arrangeras på campus Östersund. Mässan är ett samarbete mellan Mittuniversitetet, Östersunds kommun och Studentkåren i Östersund.
LAST-MODIFIED:20260423T164332Z
LOCATION:Östersund
SEQUENCE:0
STATUS:CONFIRMED
SUMMARY:Mötesplats Campus
TRANSP:OPAQUE
END:VEVENT
BEGIN:VALARM
TRIGGER:-PT30M
REPEAT:2
DURATION:PT15M
ACTION:DISPLAY
DESCRIPTION:Mötesplats Campus
END:VALARM
END:VCALENDAR
